Package: AssessORFData Version: 1.25.1 Command: /home/biocbuild/bbs-3.21-bioc/R/bin/R CMD build --keep-empty-dirs --no-resave-data AssessORFData StartedAt: 2025-02-11 11:07:33 -0500 (Tue, 11 Feb 2025) EndedAt: 2025-02-11 11:09:07 -0500 (Tue, 11 Feb 2025) EllapsedTime: 93.9 seconds RetCode: 0 Status: OK PackageFile: AssessORFData_1.25.1.tar.gz PackageFileSize: 144.6 MiB