Package: AssessORFData Version: 1.25.1 Command: /home/biocbuild/bbs-3.21-bioc/R/bin/R CMD check --install=check:AssessORFData.install-out.txt --library=/home/biocbuild/bbs-3.21-bioc/R/site-library --timings AssessORFData_1.25.1.tar.gz StartedAt: 2025-02-11 11:47:39 -0500 (Tue, 11 Feb 2025) EndedAt: 2025-02-11 11:51:56 -0500 (Tue, 11 Feb 2025) EllapsedTime: 256.3 seconds RetCode: 0 Status: OK CheckDir: AssessORFData.Rcheck Warnings: 0