Package: AssessORFData Version: 1.25.1 Command: /home/biocbuild/bbs-3.21-bioc/R/bin/R CMD INSTALL AssessORFData StartedAt: 2025-02-11 10:56:43 -0500 (Tue, 11 Feb 2025) EndedAt: 2025-02-11 10:57:26 -0500 (Tue, 11 Feb 2025) EllapsedTime: 43.9 seconds RetCode: 0 Status: OK