Package: BeadArrayUseCases Version: 1.45.1 Command: /home/biocbuild/bbs-3.21-bioc/R/bin/R CMD build --keep-empty-dirs --no-resave-data BeadArrayUseCases StartedAt: 2025-02-04 11:07:37 -0500 (Tue, 04 Feb 2025) EndedAt: 2025-02-04 11:14:57 -0500 (Tue, 04 Feb 2025) EllapsedTime: 439.9 seconds RetCode: 0 Status: OK PackageFile: BeadArrayUseCases_1.45.1.tar.gz PackageFileSize: 197.6 MiB