Package: BeadArrayUseCases Version: 1.45.1 Command: /home/biocbuild/bbs-3.21-bioc/R/bin/R CMD check --install=check:BeadArrayUseCases.install-out.txt --library=/home/biocbuild/bbs-3.21-bioc/R/site-library --timings BeadArrayUseCases_1.45.1.tar.gz StartedAt: 2025-02-04 11:47:25 -0500 (Tue, 04 Feb 2025) EndedAt: 2025-02-04 11:55:06 -0500 (Tue, 04 Feb 2025) EllapsedTime: 461.3 seconds RetCode: 0 Status: OK CheckDir: BeadArrayUseCases.Rcheck Warnings: 0