Package: BioImageDbs Version: 1.15.0 Command: /home/biocbuild/bbs-3.21-bioc/R/bin/R CMD INSTALL BioImageDbs StartedAt: 2025-02-06 10:57:43 -0500 (Thu, 06 Feb 2025) EndedAt: 2025-02-06 10:57:45 -0500 (Thu, 06 Feb 2025) EllapsedTime: 1.9 seconds RetCode: 0 Status: OK