Package: BioPlex Version: 1.13.0 Command: /home/biocbuild/bbs-3.21-bioc/R/bin/R CMD build --keep-empty-dirs --no-resave-data BioPlex StartedAt: 2025-02-06 11:07:44 -0500 (Thu, 06 Feb 2025) EndedAt: 2025-02-06 11:10:33 -0500 (Thu, 06 Feb 2025) EllapsedTime: 168.5 seconds RetCode: 0 Status: OK PackageFile: BioPlex_1.13.0.tar.gz PackageFileSize: 928.2 KiB