Package: CRCL18 Version: 1.27.0 Command: /home/biocbuild/bbs-3.21-bioc/R/bin/R CMD check --install=check:CRCL18.install-out.txt --library=/home/biocbuild/bbs-3.21-bioc/R/site-library --timings CRCL18_1.27.0.tar.gz StartedAt: 2025-02-06 11:54:47 -0500 (Thu, 06 Feb 2025) EndedAt: 2025-02-06 11:55:10 -0500 (Thu, 06 Feb 2025) EllapsedTime: 23.6 seconds RetCode: 0 Status: OK CheckDir: CRCL18.Rcheck Warnings: 0