Package: CopyNeutralIMA Version: 1.25.0 Command: /home/biocbuild/bbs-3.21-bioc/R/bin/R CMD build --keep-empty-dirs --no-resave-data CopyNeutralIMA StartedAt: 2025-02-04 11:11:11 -0500 (Tue, 04 Feb 2025) EndedAt: 2025-02-04 11:14:37 -0500 (Tue, 04 Feb 2025) EllapsedTime: 205.7 seconds RetCode: 0 Status: OK PackageFile: CopyNeutralIMA_1.25.0.tar.gz PackageFileSize: 566.1 KiB