Package: CopyNeutralIMA Version: 1.25.0 Command: /home/biocbuild/bbs-3.21-bioc/R/bin/R CMD check --install=check:CopyNeutralIMA.install-out.txt --library=/home/biocbuild/bbs-3.21-bioc/R/site-library --timings CopyNeutralIMA_1.25.0.tar.gz StartedAt: 2025-02-06 11:54:02 -0500 (Thu, 06 Feb 2025) EndedAt: 2025-02-06 11:59:36 -0500 (Thu, 06 Feb 2025) EllapsedTime: 334.6 seconds RetCode: 0 Status: OK CheckDir: CopyNeutralIMA.Rcheck Warnings: 0