Package: CopyNeutralIMA Version: 1.25.0 Command: /home/biocbuild/bbs-3.21-bioc/R/bin/R CMD INSTALL CopyNeutralIMA StartedAt: 2025-02-04 11:03:48 -0500 (Tue, 04 Feb 2025) EndedAt: 2025-02-04 11:04:05 -0500 (Tue, 04 Feb 2025) EllapsedTime: 17.3 seconds RetCode: 0 Status: OK