Package: CytoMethIC Version: 1.3.3 Maintainer: Jacob Fanale MaintainerEmail: jfanale at seas.upenn.edu git_url: https://git.bioconductor.org/packages/CytoMethIC git_branch: devel git_last_commit: 281fb0a git_last_commit_date: 2024-12-26 21:49:15 -0500 (Thu, 26 Dec 2024)