Package: DMRcatedata Version: 2.25.0 Command: /home/biocbuild/bbs-3.21-bioc/R/bin/R CMD check --install=check:DMRcatedata.install-out.txt --library=/home/biocbuild/bbs-3.21-bioc/R/site-library --timings DMRcatedata_2.25.0.tar.gz StartedAt: 2025-02-04 11:58:54 -0500 (Tue, 04 Feb 2025) EndedAt: 2025-02-04 12:02:09 -0500 (Tue, 04 Feb 2025) EllapsedTime: 195.1 seconds RetCode: 0 Status: OK CheckDir: DMRcatedata.Rcheck Warnings: 0