Package: DNAZooData Version: 1.7.0 Command: /home/biocbuild/bbs-3.21-bioc/R/bin/R CMD build --keep-empty-dirs --no-resave-data DNAZooData StartedAt: 2025-02-06 11:14:50 -0500 (Thu, 06 Feb 2025) EndedAt: 2025-02-06 11:15:28 -0500 (Thu, 06 Feb 2025) EllapsedTime: 38.1 seconds RetCode: 0 Status: OK PackageFile: DNAZooData_1.7.0.tar.gz PackageFileSize: 235.7 KiB