Package: DNAZooData Version: 1.7.0 Command: /home/biocbuild/bbs-3.21-bioc/R/bin/R CMD check --install=check:DNAZooData.install-out.txt --library=/home/biocbuild/bbs-3.21-bioc/R/site-library --timings DNAZooData_1.7.0.tar.gz StartedAt: 2025-02-06 11:58:49 -0500 (Thu, 06 Feb 2025) EndedAt: 2025-02-06 12:02:03 -0500 (Thu, 06 Feb 2025) EllapsedTime: 194.5 seconds RetCode: 0 Status: OK CheckDir: DNAZooData.Rcheck Warnings: 0