Package: DNAZooData Version: 1.7.0 Command: /home/biocbuild/bbs-3.21-bioc/R/bin/R CMD INSTALL DNAZooData StartedAt: 2025-02-04 10:59:39 -0500 (Tue, 04 Feb 2025) EndedAt: 2025-02-04 11:00:04 -0500 (Tue, 04 Feb 2025) EllapsedTime: 25.7 seconds RetCode: 0 Status: OK