Package: DvDdata Version: 1.43.0 Command: /home/biocbuild/bbs-3.21-bioc/R/bin/R CMD INSTALL DvDdata StartedAt: 2025-02-06 10:55:15 -0500 (Thu, 06 Feb 2025) EndedAt: 2025-02-06 10:55:22 -0500 (Thu, 06 Feb 2025) EllapsedTime: 7.0 seconds RetCode: 0 Status: OK