Package: EpipwR.data Version: 1.1.0 Command: /home/biocbuild/bbs-3.21-bioc/R/bin/R CMD build --keep-empty-dirs --no-resave-data EpipwR.data StartedAt: 2025-02-06 11:16:06 -0500 (Thu, 06 Feb 2025) EndedAt: 2025-02-06 11:16:10 -0500 (Thu, 06 Feb 2025) EllapsedTime: 4.0 seconds RetCode: 0 Status: OK PackageFile: EpipwR.data_1.1.0.tar.gz PackageFileSize: 8.335 KiB