Package: EpipwR.data Version: 1.1.0 Command: /home/biocbuild/bbs-3.21-bioc/R/bin/R CMD check --install=check:EpipwR.data.install-out.txt --library=/home/biocbuild/bbs-3.21-bioc/R/site-library --timings EpipwR.data_1.1.0.tar.gz StartedAt: 2025-02-06 12:02:39 -0500 (Thu, 06 Feb 2025) EndedAt: 2025-02-06 12:02:51 -0500 (Thu, 06 Feb 2025) EllapsedTime: 12.0 seconds RetCode: 0 Status: OK CheckDir: EpipwR.data.Rcheck Warnings: 0