Package: GSVAdata Version: 1.43.0 Command: /home/biocbuild/bbs-3.21-bioc/R/bin/R CMD check --install=check:GSVAdata.install-out.txt --library=/home/biocbuild/bbs-3.21-bioc/R/site-library --timings GSVAdata_1.43.0.tar.gz StartedAt: 2025-02-04 12:08:57 -0500 (Tue, 04 Feb 2025) EndedAt: 2025-02-04 12:10:28 -0500 (Tue, 04 Feb 2025) EllapsedTime: 91.4 seconds RetCode: 0 Status: OK CheckDir: GSVAdata.Rcheck Warnings: 0