Package: GenomicDistributionsData Version: 1.15.0 Command: /home/biocbuild/bbs-3.21-bioc/R/bin/R CMD INSTALL GenomicDistributionsData StartedAt: 2025-02-06 11:00:45 -0500 (Thu, 06 Feb 2025) EndedAt: 2025-02-06 11:01:21 -0500 (Thu, 06 Feb 2025) EllapsedTime: 35.9 seconds RetCode: 0 Status: OK