Package: HD2013SGI Version: 1.47.0 Command: /home/biocbuild/bbs-3.21-bioc/R/bin/R CMD build --keep-empty-dirs --no-resave-data HD2013SGI StartedAt: 2025-02-06 11:22:01 -0500 (Thu, 06 Feb 2025) EndedAt: 2025-02-06 11:28:08 -0500 (Thu, 06 Feb 2025) EllapsedTime: 366.6 seconds RetCode: 0 Status: OK PackageFile: HD2013SGI_1.47.0.tar.gz PackageFileSize: 526.5 MiB