Package: HD2013SGI Version: 1.47.0 Command: /home/biocbuild/bbs-3.21-bioc/R/bin/R CMD check --install=check:HD2013SGI.install-out.txt --library=/home/biocbuild/bbs-3.21-bioc/R/site-library --timings HD2013SGI_1.47.0.tar.gz StartedAt: 2025-02-06 12:10:13 -0500 (Thu, 06 Feb 2025) EndedAt: 2025-02-06 12:19:30 -0500 (Thu, 06 Feb 2025) EllapsedTime: 556.8 seconds RetCode: 0 Status: OK CheckDir: HD2013SGI.Rcheck Warnings: 0