Package: HEEBOdata Version: 1.45.0 Command: /home/biocbuild/bbs-3.21-bioc/R/bin/R CMD check --install=check:HEEBOdata.install-out.txt --library=/home/biocbuild/bbs-3.21-bioc/R/site-library --timings HEEBOdata_1.45.0.tar.gz StartedAt: 2025-02-06 12:11:03 -0500 (Thu, 06 Feb 2025) EndedAt: 2025-02-06 12:11:35 -0500 (Thu, 06 Feb 2025) EllapsedTime: 31.6 seconds RetCode: 0 Status: WARNINGS CheckDir: HEEBOdata.Rcheck Warnings: 1