Package: HarmanData Version: 1.35.0 Command: /home/biocbuild/bbs-3.21-bioc/R/bin/R CMD build --keep-empty-dirs --no-resave-data HarmanData StartedAt: 2025-02-06 11:21:26 -0500 (Thu, 06 Feb 2025) EndedAt: 2025-02-06 11:21:50 -0500 (Thu, 06 Feb 2025) EllapsedTime: 24.6 seconds RetCode: 0 Status: OK PackageFile: HarmanData_1.35.0.tar.gz PackageFileSize: 54.65 MiB