Package: HarmanData Version: 1.35.0 Command: /home/biocbuild/bbs-3.21-bioc/R/bin/R CMD check --install=check:HarmanData.install-out.txt --library=/home/biocbuild/bbs-3.21-bioc/R/site-library --timings HarmanData_1.35.0.tar.gz StartedAt: 2025-02-06 12:09:48 -0500 (Thu, 06 Feb 2025) EndedAt: 2025-02-06 12:10:19 -0500 (Thu, 06 Feb 2025) EllapsedTime: 31.3 seconds RetCode: 0 Status: OK CheckDir: HarmanData.Rcheck Warnings: 0