Package: HarmonizedTCGAData Version: 1.29.0 Command: /home/biocbuild/bbs-3.21-bioc/R/bin/R CMD build --keep-empty-dirs --no-resave-data HarmonizedTCGAData StartedAt: 2025-02-06 11:21:26 -0500 (Thu, 06 Feb 2025) EndedAt: 2025-02-06 11:22:01 -0500 (Thu, 06 Feb 2025) EllapsedTime: 34.6 seconds RetCode: 0 Status: OK PackageFile: HarmonizedTCGAData_1.29.0.tar.gz PackageFileSize: 719.3 KiB