Package: HarmonizedTCGAData Version: 1.29.0 Command: /home/biocbuild/bbs-3.21-bioc/R/bin/R CMD INSTALL HarmonizedTCGAData StartedAt: 2025-02-13 10:56:53 -0500 (Thu, 13 Feb 2025) EndedAt: 2025-02-13 10:57:07 -0500 (Thu, 13 Feb 2025) EllapsedTime: 13.8 seconds RetCode: 0 Status: OK