Package: HelloRangesData Version: 1.33.0 Command: /home/biocbuild/bbs-3.21-bioc/R/bin/R CMD build --keep-empty-dirs --no-resave-data HelloRangesData StartedAt: 2025-02-04 11:23:07 -0500 (Tue, 04 Feb 2025) EndedAt: 2025-02-04 11:23:42 -0500 (Tue, 04 Feb 2025) EllapsedTime: 34.8 seconds RetCode: 0 Status: OK PackageFile: HelloRangesData_1.33.0.tar.gz PackageFileSize: 45.73 MiB