Package: HiContactsData Version: 1.9.0 Command: /home/biocbuild/bbs-3.21-bioc/R/bin/R CMD check --install=check:HiContactsData.install-out.txt --library=/home/biocbuild/bbs-3.21-bioc/R/site-library --timings HiContactsData_1.9.0.tar.gz StartedAt: 2025-02-06 12:12:02 -0500 (Thu, 06 Feb 2025) EndedAt: 2025-02-06 12:13:52 -0500 (Thu, 06 Feb 2025) EllapsedTime: 109.6 seconds RetCode: 0 Status: OK CheckDir: HiContactsData.Rcheck Warnings: 0