Package: JASPAR2014 Version: 1.43.0 Command: /home/biocbuild/bbs-3.21-bioc/R/bin/R CMD check --install=check:JASPAR2014.install-out.txt --library=/home/biocbuild/bbs-3.21-bioc/R/site-library --timings JASPAR2014_1.43.0.tar.gz StartedAt: 2025-02-06 12:16:01 -0500 (Thu, 06 Feb 2025) EndedAt: 2025-02-06 12:17:18 -0500 (Thu, 06 Feb 2025) EllapsedTime: 76.9 seconds RetCode: 0 Status: WARNINGS CheckDir: JASPAR2014.Rcheck Warnings: 1