Package: JASPAR2014 Version: 1.43.0 Command: /home/biocbuild/bbs-3.21-bioc/R/bin/R CMD INSTALL JASPAR2014 StartedAt: 2025-02-06 10:56:36 -0500 (Thu, 06 Feb 2025) EndedAt: 2025-02-06 10:57:05 -0500 (Thu, 06 Feb 2025) EllapsedTime: 29.1 seconds RetCode: 0 Status: OK