Package: LegATo Version: 1.1.0 Command: /home/biocbuild/bbs-3.21-bioc/R/bin/R CMD INSTALL LegATo StartedAt: 2025-02-06 11:04:08 -0500 (Thu, 06 Feb 2025) EndedAt: 2025-02-06 11:04:28 -0500 (Thu, 06 Feb 2025) EllapsedTime: 20.2 seconds RetCode: 0 Status: OK