Package: LiebermanAidenHiC2009 Version: 0.45.0 Command: /home/biocbuild/bbs-3.21-bioc/R/bin/R CMD check --install=check:LiebermanAidenHiC2009.install-out.txt --library=/home/biocbuild/bbs-3.21-bioc/R/site-library --timings LiebermanAidenHiC2009_0.45.0.tar.gz StartedAt: 2025-02-06 12:17:43 -0500 (Thu, 06 Feb 2025) EndedAt: 2025-02-06 12:19:32 -0500 (Thu, 06 Feb 2025) EllapsedTime: 108.2 seconds RetCode: 0 Status: WARNINGS CheckDir: LiebermanAidenHiC2009.Rcheck Warnings: 2