Package: MEDIPSData Version: 1.43.0 Command: /home/biocbuild/bbs-3.21-bioc/R/bin/R CMD check --install=check:MEDIPSData.install-out.txt --library=/home/biocbuild/bbs-3.21-bioc/R/site-library --timings MEDIPSData_1.43.0.tar.gz StartedAt: 2025-02-13 12:21:17 -0500 (Thu, 13 Feb 2025) EndedAt: 2025-02-13 12:21:44 -0500 (Thu, 13 Feb 2025) EllapsedTime: 27.6 seconds RetCode: 0 Status: WARNINGS CheckDir: MEDIPSData.Rcheck Warnings: 2