Package: MouseAgingData Version: 1.3.0 Command: /home/biocbuild/bbs-3.21-bioc/R/bin/R CMD build --keep-empty-dirs --no-resave-data MouseAgingData StartedAt: 2025-02-06 11:30:18 -0500 (Thu, 06 Feb 2025) EndedAt: 2025-02-06 11:31:27 -0500 (Thu, 06 Feb 2025) EllapsedTime: 68.6 seconds RetCode: 0 Status: OK PackageFile: MouseAgingData_1.3.0.tar.gz PackageFileSize: 1.343 MiB