Package: MouseAgingData Version: 1.3.0 Command: /home/biocbuild/bbs-3.21-bioc/R/bin/R CMD check --install=check:MouseAgingData.install-out.txt --library=/home/biocbuild/bbs-3.21-bioc/R/site-library --timings MouseAgingData_1.3.0.tar.gz StartedAt: 2025-02-06 12:25:31 -0500 (Thu, 06 Feb 2025) EndedAt: 2025-02-06 12:29:00 -0500 (Thu, 06 Feb 2025) EllapsedTime: 209.3 seconds RetCode: 0 Status: OK CheckDir: MouseAgingData.Rcheck Warnings: 0