Package: MouseAgingData Version: 1.3.0 Command: /home/biocbuild/bbs-3.21-bioc/R/bin/R CMD INSTALL MouseAgingData StartedAt: 2025-02-06 10:58:15 -0500 (Thu, 06 Feb 2025) EndedAt: 2025-02-06 10:58:35 -0500 (Thu, 06 Feb 2025) EllapsedTime: 20.1 seconds RetCode: 0 Status: OK