Package: NanoporeRNASeq Version: 1.17.0 Command: /home/biocbuild/bbs-3.21-bioc/R/bin/R CMD build --keep-empty-dirs --no-resave-data NanoporeRNASeq StartedAt: 2025-02-06 11:31:38 -0500 (Thu, 06 Feb 2025) EndedAt: 2025-02-06 11:33:39 -0500 (Thu, 06 Feb 2025) EllapsedTime: 120.8 seconds RetCode: 0 Status: OK PackageFile: NanoporeRNASeq_1.17.0.tar.gz PackageFileSize: 234.7 KiB