Package: NanoporeRNASeq Version: 1.17.0 Command: /home/biocbuild/bbs-3.21-bioc/R/bin/R CMD INSTALL NanoporeRNASeq StartedAt: 2025-02-13 10:57:07 -0500 (Thu, 13 Feb 2025) EndedAt: 2025-02-13 10:57:16 -0500 (Thu, 13 Feb 2025) EllapsedTime: 8.9 seconds RetCode: 0 Status: OK