Package: PWMEnrich.Hsapiens.background Version: 4.41.0 Command: /home/biocbuild/bbs-3.21-bioc/R/bin/R CMD check --install=check:PWMEnrich.Hsapiens.background.install-out.txt --library=/home/biocbuild/bbs-3.21-bioc/R/site-library --timings PWMEnrich.Hsapiens.background_4.41.0.tar.gz StartedAt: 2025-02-06 12:32:41 -0500 (Thu, 06 Feb 2025) EndedAt: 2025-02-06 12:33:21 -0500 (Thu, 06 Feb 2025) EllapsedTime: 40.6 seconds RetCode: 0 Status: OK CheckDir: PWMEnrich.Hsapiens.background.Rcheck Warnings: 0