Package: PepsNMRData Version: 1.25.0 Maintainer: Manon Martin MaintainerEmail: manon.martin at uclouvain.be git_url: https://git.bioconductor.org/packages/PepsNMRData git_branch: devel git_last_commit: ad78a11 git_last_commit_date: 2024-10-29 09:49:16 -0500 (Tue, 29 Oct 2024)