Package: PepsNMRData Version: 1.25.0 Command: /home/biocbuild/bbs-3.21-bioc/R/bin/R CMD check --install=check:PepsNMRData.install-out.txt --library=/home/biocbuild/bbs-3.21-bioc/R/site-library --timings PepsNMRData_1.25.0.tar.gz StartedAt: 2025-02-06 12:31:32 -0500 (Thu, 06 Feb 2025) EndedAt: 2025-02-06 12:31:53 -0500 (Thu, 06 Feb 2025) EllapsedTime: 20.6 seconds RetCode: 0 Status: WARNINGS CheckDir: PepsNMRData.Rcheck Warnings: 1