Package: RGMQLlib Version: 1.27.0 Command: /home/biocbuild/bbs-3.21-bioc/R/bin/R CMD INSTALL RGMQLlib StartedAt: 2025-02-13 10:55:23 -0500 (Thu, 13 Feb 2025) EndedAt: 2025-02-13 10:55:25 -0500 (Thu, 13 Feb 2025) EllapsedTime: 2.1 seconds RetCode: 0 Status: OK