Package: RITANdata Version: 1.31.0 Command: /home/biocbuild/bbs-3.21-bioc/R/bin/R CMD build --keep-empty-dirs --no-resave-data RITANdata StartedAt: 2025-02-04 11:36:05 -0500 (Tue, 04 Feb 2025) EndedAt: 2025-02-04 11:36:42 -0500 (Tue, 04 Feb 2025) EllapsedTime: 36.6 seconds RetCode: 0 Status: OK PackageFile: RITANdata_1.31.0.tar.gz PackageFileSize: 7.415 MiB