Package: RITANdata Version: 1.31.0 Command: /home/biocbuild/bbs-3.21-bioc/R/bin/R CMD check --install=check:RITANdata.install-out.txt --library=/home/biocbuild/bbs-3.21-bioc/R/site-library --timings RITANdata_1.31.0.tar.gz StartedAt: 2025-02-04 12:35:00 -0500 (Tue, 04 Feb 2025) EndedAt: 2025-02-04 12:35:21 -0500 (Tue, 04 Feb 2025) EllapsedTime: 20.3 seconds RetCode: 0 Status: OK CheckDir: RITANdata.Rcheck Warnings: 0