Package: RNAseqData.HNRNPC.bam.chr14 Version: 0.45.0 Command: /home/biocbuild/bbs-3.21-bioc/R/bin/R CMD check --install=check:RNAseqData.HNRNPC.bam.chr14.install-out.txt --library=/home/biocbuild/bbs-3.21-bioc/R/site-library --timings RNAseqData.HNRNPC.bam.chr14_0.45.0.tar.gz StartedAt: 2025-02-06 12:35:07 -0500 (Thu, 06 Feb 2025) EndedAt: 2025-02-06 12:35:49 -0500 (Thu, 06 Feb 2025) EllapsedTime: 42.6 seconds RetCode: 0 Status: OK CheckDir: RNAseqData.HNRNPC.bam.chr14.Rcheck Warnings: 0