Package: RTCGA.PANCAN12 Version: 1.35.0 Command: /home/biocbuild/bbs-3.21-bioc/R/bin/R CMD build --keep-empty-dirs --no-resave-data RTCGA.PANCAN12 StartedAt: 2025-02-11 11:37:36 -0500 (Tue, 11 Feb 2025) EndedAt: 2025-02-11 11:37:58 -0500 (Tue, 11 Feb 2025) EllapsedTime: 22.7 seconds RetCode: 0 Status: OK PackageFile: RTCGA.PANCAN12_1.35.0.tar.gz PackageFileSize: 213.9 MiB