Package: RTCGA.PANCAN12 Version: 1.35.0 Command: /home/biocbuild/bbs-3.21-bioc/R/bin/R CMD check --install=check:RTCGA.PANCAN12.install-out.txt --library=/home/biocbuild/bbs-3.21-bioc/R/site-library --timings RTCGA.PANCAN12_1.35.0.tar.gz StartedAt: 2025-02-11 12:40:25 -0500 (Tue, 11 Feb 2025) EndedAt: 2025-02-11 12:42:21 -0500 (Tue, 11 Feb 2025) EllapsedTime: 116.5 seconds RetCode: 0 Status: OK CheckDir: RTCGA.PANCAN12.Rcheck Warnings: 0