Package: RTCGA.PANCAN12 Version: 1.35.0 Command: /home/biocbuild/bbs-3.21-bioc/R/bin/R CMD INSTALL RTCGA.PANCAN12 StartedAt: 2025-02-11 11:04:04 -0500 (Tue, 11 Feb 2025) EndedAt: 2025-02-11 11:04:13 -0500 (Tue, 11 Feb 2025) EllapsedTime: 9.2 seconds RetCode: 0 Status: OK